BEGIN:VCALENDAR
VERSION:2.0
PRODID:-//Atlanta Alumnae Chapter, Delta Sigma Theta Sorority, Inc. - ECPv6.15.20//NONSGML v1.0//EN
CALSCALE:GREGORIAN
METHOD:PUBLISH
X-WR-CALNAME:Atlanta Alumnae Chapter, Delta Sigma Theta Sorority, Inc.
X-ORIGINAL-URL:https://www.atlantaalumnaedst.org
X-WR-CALDESC:Events for Atlanta Alumnae Chapter, Delta Sigma Theta Sorority, Inc.
REFRESH-INTERVAL;VALUE=DURATION:PT1H
X-Robots-Tag:noindex
X-PUBLISHED-TTL:PT1H
BEGIN:VTIMEZONE
TZID:America/New_York
BEGIN:DAYLIGHT
TZOFFSETFROM:-0500
TZOFFSETTO:-0400
TZNAME:EDT
DTSTART:20220313T070000
END:DAYLIGHT
BEGIN:STANDARD
TZOFFSETFROM:-0400
TZOFFSETTO:-0500
TZNAME:EST
DTSTART:20221106T060000
END:STANDARD
BEGIN:DAYLIGHT
TZOFFSETFROM:-0500
TZOFFSETTO:-0400
TZNAME:EDT
DTSTART:20230312T070000
END:DAYLIGHT
BEGIN:STANDARD
TZOFFSETFROM:-0400
TZOFFSETTO:-0500
TZNAME:EST
DTSTART:20231105T060000
END:STANDARD
BEGIN:DAYLIGHT
TZOFFSETFROM:-0500
TZOFFSETTO:-0400
TZNAME:EDT
DTSTART:20240310T070000
END:DAYLIGHT
BEGIN:STANDARD
TZOFFSETFROM:-0400
TZOFFSETTO:-0500
TZNAME:EST
DTSTART:20241103T060000
END:STANDARD
BEGIN:DAYLIGHT
TZOFFSETFROM:-0500
TZOFFSETTO:-0400
TZNAME:EDT
DTSTART:20250309T070000
END:DAYLIGHT
BEGIN:STANDARD
TZOFFSETFROM:-0400
TZOFFSETTO:-0500
TZNAME:EST
DTSTART:20251102T060000
END:STANDARD
END:VTIMEZONE
BEGIN:VEVENT
DTSTART;TZID=America/New_York:20240322T000000
DTEND;TZID=America/New_York:20240322T000000
DTSTAMP:20260423T175411
CREATED:20240225T225457Z
LAST-MODIFIED:20240225T225457Z
UID:38122-1711065600-1711065600@www.atlantaalumnaedst.org
SUMMARY:Membership Services: Impact Program - Community Project
DESCRIPTION:
URL:https://www.atlantaalumnaedst.org/event/membership-services-impact-program-community-project
END:VEVENT
BEGIN:VEVENT
DTSTART;TZID=America/New_York:20240320T000000
DTEND;TZID=America/New_York:20240320T000000
DTSTAMP:20260423T175411
CREATED:20240225T225457Z
LAST-MODIFIED:20240225T225457Z
UID:38121-1710892800-1710892800@www.atlantaalumnaedst.org
SUMMARY:Membership Services: “Red Escape”
DESCRIPTION:
URL:https://www.atlantaalumnaedst.org/event/membership-services-red-escape
END:VEVENT
BEGIN:VEVENT
DTSTART;TZID=America/New_York:20240317T160000
DTEND;TZID=America/New_York:20240317T180000
DTSTAMP:20260423T175411
CREATED:20240223T141553Z
LAST-MODIFIED:20240302T142719Z
UID:38101-1710691200-1710698400@www.atlantaalumnaedst.org
SUMMARY:Delta Reads Book Club
DESCRIPTION:
URL:https://www.atlantaalumnaedst.org/event/delta-reads-book-club-vanishinghalf-3-2-2
CATEGORIES:Webinar/Zoom
ATTACH;FMTTYPE=image/png:https://www.atlantaalumnaedst.org/wp-content/uploads/2024/02/DeltaReadsMarch.png
END:VEVENT
BEGIN:VEVENT
DTSTART;TZID=America/New_York:20240317T130000
DTEND;TZID=America/New_York:20240317T150000
DTSTAMP:20260423T175411
CREATED:20240225T225456Z
LAST-MODIFIED:20240305T044413Z
UID:38120-1710680400-1710687600@www.atlantaalumnaedst.org
SUMMARY:Grow With Google: Learn Google Drive and Sheets
DESCRIPTION:
URL:https://www.atlantaalumnaedst.org/event/grow-with-google-learn-google-drive-and-sheets
ATTACH;FMTTYPE=image/png:https://www.atlantaalumnaedst.org/wp-content/uploads/2024/03/GWG_External-1.png
END:VEVENT
BEGIN:VEVENT
DTSTART;TZID=America/New_York:20240317T000000
DTEND;TZID=America/New_York:20240317T000000
DTSTAMP:20260423T175411
CREATED:20240225T225452Z
LAST-MODIFIED:20240225T225452Z
UID:38119-1710633600-1710633600@www.atlantaalumnaedst.org
SUMMARY:Membership Services: Worship with the President/Jazz Brunch
DESCRIPTION:
URL:https://www.atlantaalumnaedst.org/event/membership-services-worship-with-the-president-jazz-brunch
END:VEVENT
BEGIN:VEVENT
DTSTART;TZID=America/New_York:20240317T000000
DTEND;TZID=America/New_York:20240317T000000
DTSTAMP:20260423T175411
CREATED:20240225T225449Z
LAST-MODIFIED:20240225T225449Z
UID:38118-1710633600-1710633600@www.atlantaalumnaedst.org
SUMMARY:LEAD: “For the Love of Sisterhood” Forum
DESCRIPTION:
URL:https://www.atlantaalumnaedst.org/event/lead-for-the-love-of-sisterhood-forum
END:VEVENT
BEGIN:VEVENT
DTSTART;TZID=America/New_York:20240316T000000
DTEND;TZID=America/New_York:20240316T000000
DTSTAMP:20260423T175411
CREATED:20240225T225446Z
LAST-MODIFIED:20240225T225446Z
UID:38117-1710547200-1710547200@www.atlantaalumnaedst.org
SUMMARY:Membership Services: Sisterhood Retention Activity - Paint & Sip
DESCRIPTION:
URL:https://www.atlantaalumnaedst.org/event/membership-services-sisterhood-retention-activity-paint-sip
END:VEVENT
BEGIN:VEVENT
DTSTART;TZID=America/New_York:20240310T000000
DTEND;TZID=America/New_York:20240310T000000
DTSTAMP:20260423T175411
CREATED:20240225T225444Z
LAST-MODIFIED:20240225T225444Z
UID:38116-1710028800-1710028800@www.atlantaalumnaedst.org
SUMMARY:Membership Services: Soror Sunday
DESCRIPTION:
URL:https://www.atlantaalumnaedst.org/event/membership-services-soror-sunday
END:VEVENT
BEGIN:VEVENT
DTSTART;TZID=America/New_York:20240308T000000
DTEND;TZID=America/New_York:20240308T000000
DTSTAMP:20260423T175411
CREATED:20240225T225440Z
LAST-MODIFIED:20240225T225440Z
UID:38115-1709856000-1709856000@www.atlantaalumnaedst.org
SUMMARY:Membership Services: Charcuterie Boards/Line Dancing
DESCRIPTION:
URL:https://www.atlantaalumnaedst.org/event/membership-services-charcuterie-boards-line-dancing
END:VEVENT
BEGIN:VEVENT
DTSTART;TZID=America/New_York:20240302T000000
DTEND;TZID=America/New_York:20240302T000000
DTSTAMP:20260423T175411
CREATED:20240225T225437Z
LAST-MODIFIED:20240225T225437Z
UID:38114-1709337600-1709337600@www.atlantaalumnaedst.org
SUMMARY:Membership Services: Delta Dear Activity
DESCRIPTION:
URL:https://www.atlantaalumnaedst.org/event/membership-services-delta-dear-activity
END:VEVENT
BEGIN:VEVENT
DTSTART;TZID=America/New_York:20240225T150000
DTEND;TZID=America/New_York:20240225T170000
DTSTAMP:20260423T175411
CREATED:20240223T141917Z
LAST-MODIFIED:20240223T141917Z
UID:38105-1708873200-1708880400@www.atlantaalumnaedst.org
SUMMARY:Grow With Google: Digital Skills for Everyday Tasks: Slides (creating presentations) and Docs (create and edit text documents in your browser)
DESCRIPTION:
URL:https://www.atlantaalumnaedst.org/event/grow-with-google-digital-skills-for-everyday-tasks-slides-creating-presentations-and-docs-create-and-edit-text-documents-in-your-browser
ATTACH;FMTTYPE=image/png:https://www.atlantaalumnaedst.org/wp-content/uploads/2024/02/GwGFlyer-1-1.png
END:VEVENT
BEGIN:VEVENT
DTSTART;TZID=America/New_York:20240224T000000
DTEND;TZID=America/New_York:20240224T000000
DTSTAMP:20260423T175411
CREATED:20240225T225435Z
LAST-MODIFIED:20240225T225435Z
UID:38113-1708732800-1708732800@www.atlantaalumnaedst.org
SUMMARY:LEAD: Lead Session - “Delta Business & The Ties that Bind"
DESCRIPTION:
URL:https://www.atlantaalumnaedst.org/event/lead-lead-session-delta-business-the-ties-that-bind
END:VEVENT
BEGIN:VEVENT
DTSTART;TZID=America/New_York:20240224T000000
DTEND;TZID=America/New_York:20240224T000000
DTSTAMP:20260423T175411
CREATED:20240225T225433Z
LAST-MODIFIED:20240225T225433Z
UID:38112-1708732800-1708732800@www.atlantaalumnaedst.org
SUMMARY:Emergency Response Team: CPR/First Aid for Delta GEMS
DESCRIPTION:
URL:https://www.atlantaalumnaedst.org/event/emergency-response-team-cpr-first-aid-for-delta-gems
END:VEVENT
BEGIN:VEVENT
DTSTART;TZID=America/New_York:20240224T000000
DTEND;TZID=America/New_York:20240224T000000
DTSTAMP:20260423T175411
CREATED:20240225T225432Z
LAST-MODIFIED:20240225T225432Z
UID:38111-1708732800-1708732800@www.atlantaalumnaedst.org
SUMMARY:Educational Development: Community Service - Black History Month Focus
DESCRIPTION:
URL:https://www.atlantaalumnaedst.org/event/educational-development-community-service-black-history-month-focus
END:VEVENT
BEGIN:VEVENT
DTSTART;TZID=America/New_York:20240224T000000
DTEND;TZID=America/New_York:20240224T000000
DTSTAMP:20260423T175411
CREATED:20240225T225429Z
LAST-MODIFIED:20240225T225429Z
UID:38110-1708732800-1708732800@www.atlantaalumnaedst.org
SUMMARY:Arts & Letters: Banned Book Forum
DESCRIPTION:
URL:https://www.atlantaalumnaedst.org/event/arts-letters-banned-book-forum
END:VEVENT
BEGIN:VEVENT
DTSTART;TZID=America/New_York:20231119T160000
DTEND;TZID=America/New_York:20231119T180000
DTSTAMP:20260423T175411
CREATED:20231101T153938Z
LAST-MODIFIED:20231101T153938Z
UID:37952-1700409600-1700416800@www.atlantaalumnaedst.org
SUMMARY:Delta Reads Book Club
DESCRIPTION:Zoom Meeting Link: bit.ly/3sd9tv7
URL:https://www.atlantaalumnaedst.org/event/delta-reads-book-club-vanishinghalf-3-2
CATEGORIES:Webinar/Zoom
ATTACH;FMTTYPE=image/png:https://www.atlantaalumnaedst.org/wp-content/uploads/2023/11/Delta-Reads-Just-As-I-Am-Announcement-1.png
END:VEVENT
BEGIN:VEVENT
DTSTART;TZID=America/New_York:20230917T160000
DTEND;TZID=America/New_York:20230917T180000
DTSTAMP:20260423T175411
CREATED:20230912T222338Z
LAST-MODIFIED:20230912T222338Z
UID:37935-1694966400-1694973600@www.atlantaalumnaedst.org
SUMMARY:Delta Reads Book Club
DESCRIPTION:Zoom Meeting Link: bit.ly/3Rju3nK
URL:https://www.atlantaalumnaedst.org/event/delta-reads-book-club-vanishinghalf-3
CATEGORIES:Webinar/Zoom
ATTACH;FMTTYPE=image/png:https://www.atlantaalumnaedst.org/wp-content/uploads/2023/09/Delta-Reads-The-Violin-Conspiracy_Zoom.png
END:VEVENT
BEGIN:VEVENT
DTSTART;TZID=America/New_York:20230916T100000
DTEND;TZID=America/New_York:20230916T120000
DTSTAMP:20260423T175411
CREATED:20230912T215815Z
LAST-MODIFIED:20230912T215815Z
UID:37926-1694858400-1694865600@www.atlantaalumnaedst.org
SUMMARY:Chapter Meeting
DESCRIPTION:Monthly Chapter Meeting.
URL:https://www.atlantaalumnaedst.org/event/chapter-meeting-april-2023-2
CATEGORIES:Chapter Meeting
ATTACH;FMTTYPE=image/png:https://www.atlantaalumnaedst.org/wp-content/uploads/2022/12/AACChapterMtg_graphic.png
END:VEVENT
BEGIN:VEVENT
DTSTART;TZID=America/New_York:20230518T190000
DTEND;TZID=America/New_York:20230518T210000
DTSTAMP:20260423T175411
CREATED:20230508T010622Z
LAST-MODIFIED:20230508T010622Z
UID:37771-1684436400-1684443600@www.atlantaalumnaedst.org
SUMMARY:Mental Health Awareness: Stigmas and Misconceptions associated with Diagnosis and Treatment
DESCRIPTION:
URL:https://www.atlantaalumnaedst.org/event/healthfair-2
CATEGORIES:Webinar/Zoom
ATTACH;FMTTYPE=image/png:https://www.atlantaalumnaedst.org/wp-content/uploads/2023/05/pmh_flyerMay18.png
END:VEVENT
BEGIN:VEVENT
DTSTART;TZID=America/New_York:20230513T100000
DTEND;TZID=America/New_York:20230513T110000
DTSTAMP:20260423T175411
CREATED:20230305T232751Z
LAST-MODIFIED:20230305T232751Z
UID:37643-1683972000-1683975600@www.atlantaalumnaedst.org
SUMMARY:Delta Academy Meeting
DESCRIPTION:
URL:https://www.atlantaalumnaedst.org/event/delta-academy-april-2
CATEGORIES:Chapter Event
ATTACH;FMTTYPE=image/png:https://www.atlantaalumnaedst.org/wp-content/uploads/2023/03/delta-academy.png
END:VEVENT
BEGIN:VEVENT
DTSTART;TZID=America/New_York:20230509T190000
DTEND;TZID=America/New_York:20230509T210000
DTSTAMP:20260423T175411
CREATED:20230427T153319Z
LAST-MODIFIED:20230427T153425Z
UID:37753-1683658800-1683666000@www.atlantaalumnaedst.org
SUMMARY:She’s Got Cents : A Virtual Money Making Workshop for High School Teen Girls
DESCRIPTION:
URL:https://www.atlantaalumnaedst.org/event/delta-academy-april-2-2
CATEGORIES:Chapter Event
ATTACH;FMTTYPE=image/png:https://www.atlantaalumnaedst.org/wp-content/uploads/2023/04/shegotcents.png
END:VEVENT
BEGIN:VEVENT
DTSTART;TZID=America/New_York:20230422T100000
DTEND;TZID=America/New_York:20230422T140000
DTSTAMP:20260423T175411
CREATED:20230305T232353Z
LAST-MODIFIED:20230322T202516Z
UID:37639-1682157600-1682172000@www.atlantaalumnaedst.org
SUMMARY:Annual Health Fair
DESCRIPTION:
URL:https://www.atlantaalumnaedst.org/event/healthfair
CATEGORIES:In-person
ATTACH;FMTTYPE=image/png:https://www.atlantaalumnaedst.org/wp-content/uploads/2023/03/unnamed.png
END:VEVENT
BEGIN:VEVENT
DTSTART;TZID=America/New_York:20230416T160000
DTEND;TZID=America/New_York:20230416T200000
DTSTAMP:20260423T175411
CREATED:20230312T075755Z
LAST-MODIFIED:20230312T080018Z
UID:37671-1681660800-1681675200@www.atlantaalumnaedst.org
SUMMARY:Pre-Centennial Fashion Show
DESCRIPTION:
URL:https://www.atlantaalumnaedst.org/event/fashion-show
CATEGORIES:In-person,Public Event
ATTACH;FMTTYPE=image/png:https://www.atlantaalumnaedst.org/wp-content/uploads/2022/12/AAC_Flyer_.png
END:VEVENT
BEGIN:VEVENT
DTSTART;TZID=America/New_York:20230415T100000
DTEND;TZID=America/New_York:20230415T120000
DTSTAMP:20260423T175411
CREATED:20230305T232109Z
LAST-MODIFIED:20230311T045609Z
UID:37637-1681552800-1681560000@www.atlantaalumnaedst.org
SUMMARY:Chapter Meeting
DESCRIPTION:Monthly Chapter Meeting.
URL:https://www.atlantaalumnaedst.org/event/chapter-meeting-april-2023
CATEGORIES:Chapter Meeting
ATTACH;FMTTYPE=image/png:https://www.atlantaalumnaedst.org/wp-content/uploads/2022/12/AACChapterMtg_graphic.png
END:VEVENT
BEGIN:VEVENT
DTSTART;TZID=America/New_York:20230406T100000
DTEND;TZID=America/New_York:20230406T110000
DTSTAMP:20260423T175411
CREATED:20230305T232632Z
LAST-MODIFIED:20230305T232632Z
UID:37641-1680775200-1680778800@www.atlantaalumnaedst.org
SUMMARY:Delta Academy Meeting
DESCRIPTION:
URL:https://www.atlantaalumnaedst.org/event/delta-academy-april
CATEGORIES:Chapter Event
ATTACH;FMTTYPE=image/png:https://www.atlantaalumnaedst.org/wp-content/uploads/2023/03/delta-academy.png
END:VEVENT
BEGIN:VEVENT
DTSTART;TZID=America/New_York:20230328T190000
DTEND;TZID=America/New_York:20230328T203000
DTSTAMP:20260423T175411
CREATED:20230305T232003Z
LAST-MODIFIED:20230322T205248Z
UID:37630-1680030000-1680035400@www.atlantaalumnaedst.org
SUMMARY:Focus: Money Matters Series
DESCRIPTION:
URL:https://www.atlantaalumnaedst.org/event/focusmoney-matters-series-2-2
CATEGORIES:Webinar/Zoom
ATTACH;FMTTYPE=image/png:https://www.atlantaalumnaedst.org/wp-content/uploads/2023/03/FiresideChatPNGVERSION.png
END:VEVENT
BEGIN:VEVENT
DTSTART;TZID=America/New_York:20230326T180000
DTEND;TZID=America/New_York:20230326T210000
DTSTAMP:20260423T175411
CREATED:20230305T224830Z
LAST-MODIFIED:20230305T233110Z
UID:37626-1679853600-1679864400@www.atlantaalumnaedst.org
SUMMARY:Atlanta Hawks Step Team Performance
DESCRIPTION:Our Step Team will be performing pre-game and Atlanta Alumnae will receive a portion of all proceeds if we purchase at least 100 tickets.  Please support our Step Team and purchase your ticket today!
URL:https://www.atlantaalumnaedst.org/event/step-team-march-2023
CATEGORIES:In-person,Public Event
ATTACH;FMTTYPE=image/png:https://www.atlantaalumnaedst.org/wp-content/uploads/2023/03/step_team.png
END:VEVENT
BEGIN:VEVENT
DTSTART;TZID=America/New_York:20230323T190000
DTEND;TZID=America/New_York:20230323T200000
DTSTAMP:20260423T175411
CREATED:20230311T045429Z
LAST-MODIFIED:20230311T045429Z
UID:37659-1679598000-1679601600@www.atlantaalumnaedst.org
SUMMARY:Black Women Make History: Series Pioneers\, Icons\, and Trailblazers: Black Women+Fashion=Iconic
DESCRIPTION:
URL:https://www.atlantaalumnaedst.org/event/blackwomenmakehistory-2
CATEGORIES:Webinar/Zoom
ATTACH;FMTTYPE=image/jpeg:https://www.atlantaalumnaedst.org/wp-content/uploads/2023/03/Updated_HA-WMH-March-2023-Flyer.jpg
END:VEVENT
BEGIN:VEVENT
DTSTART;TZID=America/New_York:20230319T160000
DTEND;TZID=America/New_York:20230319T180000
DTSTAMP:20260423T175411
CREATED:20230303T222003Z
LAST-MODIFIED:20230303T222312Z
UID:37617-1679241600-1679248800@www.atlantaalumnaedst.org
SUMMARY:Delta Reads Book Club
DESCRIPTION:Zoom Meeting Link: bit.ly/3SP4Pfr
URL:https://www.atlantaalumnaedst.org/event/delta-reads-book-club-vanishinghalf
CATEGORIES:Webinar/Zoom
ATTACH;FMTTYPE=image/png:https://www.atlantaalumnaedst.org/wp-content/uploads/2023/03/BookClub_March19-1.png
END:VEVENT
BEGIN:VEVENT
DTSTART;TZID=America/New_York:20230318T100000
DTEND;TZID=America/New_York:20230318T120000
DTSTAMP:20260423T175411
CREATED:20230305T223154Z
LAST-MODIFIED:20230305T223154Z
UID:37621-1679133600-1679140800@www.atlantaalumnaedst.org
SUMMARY:Chapter Meeting
DESCRIPTION:Monthly Chapter Meeting. Check your email for meeting link.
URL:https://www.atlantaalumnaedst.org/event/chapter-meeting-mar-2023
CATEGORIES:Chapter Meeting
ATTACH;FMTTYPE=image/png:https://www.atlantaalumnaedst.org/wp-content/uploads/2022/12/AACChapterMtg_graphic.png
END:VEVENT
END:VCALENDAR