BEGIN:VCALENDAR
VERSION:2.0
PRODID:-//Atlanta Alumnae Chapter, Delta Sigma Theta Sorority, Inc. - ECPv6.15.20//NONSGML v1.0//EN
CALSCALE:GREGORIAN
METHOD:PUBLISH
X-WR-CALNAME:Atlanta Alumnae Chapter, Delta Sigma Theta Sorority, Inc.
X-ORIGINAL-URL:https://www.atlantaalumnaedst.org
X-WR-CALDESC:Events for Atlanta Alumnae Chapter, Delta Sigma Theta Sorority, Inc.
REFRESH-INTERVAL;VALUE=DURATION:PT1H
X-Robots-Tag:noindex
X-PUBLISHED-TTL:PT1H
BEGIN:VTIMEZONE
TZID:America/New_York
BEGIN:DAYLIGHT
TZOFFSETFROM:-0500
TZOFFSETTO:-0400
TZNAME:EDT
DTSTART:20230312T070000
END:DAYLIGHT
BEGIN:STANDARD
TZOFFSETFROM:-0400
TZOFFSETTO:-0500
TZNAME:EST
DTSTART:20231105T060000
END:STANDARD
BEGIN:DAYLIGHT
TZOFFSETFROM:-0500
TZOFFSETTO:-0400
TZNAME:EDT
DTSTART:20240310T070000
END:DAYLIGHT
BEGIN:STANDARD
TZOFFSETFROM:-0400
TZOFFSETTO:-0500
TZNAME:EST
DTSTART:20241103T060000
END:STANDARD
BEGIN:DAYLIGHT
TZOFFSETFROM:-0500
TZOFFSETTO:-0400
TZNAME:EDT
DTSTART:20250309T070000
END:DAYLIGHT
BEGIN:STANDARD
TZOFFSETFROM:-0400
TZOFFSETTO:-0500
TZNAME:EST
DTSTART:20251102T060000
END:STANDARD
BEGIN:DAYLIGHT
TZOFFSETFROM:-0500
TZOFFSETTO:-0400
TZNAME:EDT
DTSTART:20260308T070000
END:DAYLIGHT
BEGIN:STANDARD
TZOFFSETFROM:-0400
TZOFFSETTO:-0500
TZNAME:EST
DTSTART:20261101T060000
END:STANDARD
BEGIN:DAYLIGHT
TZOFFSETFROM:-0500
TZOFFSETTO:-0400
TZNAME:EDT
DTSTART:20270314T070000
END:DAYLIGHT
BEGIN:STANDARD
TZOFFSETFROM:-0400
TZOFFSETTO:-0500
TZNAME:EST
DTSTART:20271107T060000
END:STANDARD
END:VTIMEZONE
BEGIN:VEVENT
DTSTART;TZID=America/New_York:20260419T140000
DTEND;TZID=America/New_York:20260419T160000
DTSTAMP:20260423T112142
CREATED:20260417T144839Z
LAST-MODIFIED:20260417T154215Z
UID:38838-1776607200-1776614400@www.atlantaalumnaedst.org
SUMMARY:Cozy Convos & Custom Scents
DESCRIPTION:The Arts and Letters Committee of The Atlanta Alumnae Chapter of Delta Sigma Theta Sorority\, Inc. presents… \nCozy Convos & Custom Scents \nLearn the art of candle making with Rae Ellis \nSunday\, April 19\, 2026 \n2:00p to 4:00p \nEllis Station Candle Co. \nStudioPlex \n659 Auburn Ave NE\, Suite 128 \nAtlanta\, GA 30312 \nThis activity is open to Sorors\, Family\, & Friends. \nWorkshop fee is $40.00. \nPaid parking is available at StudioPlex – 2 Hours ($10) 6 Hours ($14). Free parking is available on Auburn Avenue and surrounding streets. Feel free to take a stroll on the Beltline after the workshop! \nTo register: https://ellisstation.com/products/arts-letters-committee-atlanta-alumnae-chapter-delta-sigma-theta-sorority-inc-presents-cozy-convos-and-custom-scents-april-19-2026-2pm-4pm
URL:https://www.atlantaalumnaedst.org/event/economic-development-red-power-series-3-2-2
LOCATION:Ellis Station Candle Co\, 659 Auburn Ave NE Ste 128\, Atlanta\, GA\, 30012
CATEGORIES:In-person
ATTACH;FMTTYPE=image/png:https://www.atlantaalumnaedst.org/wp-content/uploads/2026/04/cozyconvos.png
END:VEVENT
BEGIN:VEVENT
DTSTART;TZID=America/New_York:20260418T100000
DTEND;TZID=America/New_York:20260418T120000
DTSTAMP:20260423T112142
CREATED:20260417T143840Z
LAST-MODIFIED:20260417T143840Z
UID:38836-1776506400-1776513600@www.atlantaalumnaedst.org
SUMMARY:Chapter Meeting
DESCRIPTION:Monthly Chapter Meeting.
URL:https://www.atlantaalumnaedst.org/event/chapter-meeting-april-2023-3-2-2-2
LOCATION:Allen Temple African Methodist Episcopal Church\, 1625 Joseph E. Boone\, Atlanta\, GA\, 30314\, United States
CATEGORIES:Chapter Meeting,In-person
ATTACH;FMTTYPE=image/png:https://www.atlantaalumnaedst.org/wp-content/uploads/2022/12/AACChapterMtg_graphic.png
END:VEVENT
BEGIN:VEVENT
DTSTART;TZID=America/New_York:20260411T100000
DTEND;TZID=America/New_York:20260411T130000
DTSTAMP:20260423T112142
CREATED:20260205T160612Z
LAST-MODIFIED:20260312T153726Z
UID:38781-1775901600-1775912400@www.atlantaalumnaedst.org
SUMMARY:Impact Day of Service
DESCRIPTION:National AIDS Memorial Panel Creation
URL:https://www.atlantaalumnaedst.org/event/mlk-impact-day-of-service-2
LOCATION:Woodruff Park\, 91 Peachtree St NW\, Atlanta\, 30303\, United States
CATEGORIES:In-person,Public Event
ATTACH;FMTTYPE=image/png:https://www.atlantaalumnaedst.org/wp-content/uploads/2026/02/Impact-Day-of-Service-Flyer_Sorors.png
END:VEVENT
BEGIN:VEVENT
DTSTART;TZID=America/New_York:20260321T100000
DTEND;TZID=America/New_York:20260321T120000
DTSTAMP:20260423T112142
CREATED:20260105T204049Z
LAST-MODIFIED:20260205T165854Z
UID:38651-1774087200-1774094400@www.atlantaalumnaedst.org
SUMMARY:Chapter Meeting
DESCRIPTION:Monthly Chapter Meeting.
URL:https://www.atlantaalumnaedst.org/event/chapter-meeting-april-2023-3-2-2
LOCATION:Allen Temple African Methodist Episcopal Church\, 1625 Joseph E. Boone\, Atlanta\, GA\, 30314\, United States
CATEGORIES:Chapter Meeting,In-person
ATTACH;FMTTYPE=image/png:https://www.atlantaalumnaedst.org/wp-content/uploads/2022/12/AACChapterMtg_graphic.png
END:VEVENT
BEGIN:VEVENT
DTSTART;TZID=America/New_York:20260314T110000
DTEND;TZID=America/New_York:20260314T130000
DTSTAMP:20260423T112142
CREATED:20260417T150611Z
LAST-MODIFIED:20260417T150611Z
UID:38842-1773486000-1773493200@www.atlantaalumnaedst.org
SUMMARY:Arts & Letters and Social Action: Banned Book Forum
DESCRIPTION:
URL:https://www.atlantaalumnaedst.org/event/bannedbooks
ATTACH;FMTTYPE=image/png:https://www.atlantaalumnaedst.org/wp-content/uploads/2026/04/bannedbooks.png
END:VEVENT
BEGIN:VEVENT
DTSTART;TZID=America/New_York:20260311T190000
DTEND;TZID=America/New_York:20260311T210000
DTSTAMP:20260423T112142
CREATED:20260205T154824Z
LAST-MODIFIED:20260417T150744Z
UID:38773-1773255600-1773262800@www.atlantaalumnaedst.org
SUMMARY:Economic Development: Red Power Series
DESCRIPTION:
URL:https://www.atlantaalumnaedst.org/event/economic-development-red-power-series-3
CATEGORIES:Public Event,Webinar/Zoom
ATTACH;FMTTYPE=image/png:https://www.atlantaalumnaedst.org/wp-content/uploads/2026/04/redpower_march11.png
END:VEVENT
BEGIN:VEVENT
DTSTART;TZID=America/New_York:20260308T130000
DTEND;TZID=America/New_York:20260308T150000
DTSTAMP:20260423T112142
CREATED:20260105T210810Z
LAST-MODIFIED:20260205T165941Z
UID:38664-1772974800-1772982000@www.atlantaalumnaedst.org
SUMMARY:Collegiate Mental Health Program - Rescheduled
DESCRIPTION:
URL:https://www.atlantaalumnaedst.org/event/collegiate-mental-health-program
LOCATION:Life Development Center (LDC)\, 2841 Greenbriar Parkway\, Atlanta\, GA\, 30331\, United States
CATEGORIES:Chapter Event,In-person,Public Event
ATTACH;FMTTYPE=image/png:https://www.atlantaalumnaedst.org/wp-content/uploads/2026/01/nami_jan31.png
END:VEVENT
BEGIN:VEVENT
DTSTART;TZID=America/New_York:20260228T110000
DTEND;TZID=America/New_York:20260228T170000
DTSTAMP:20260423T112142
CREATED:20260105T211853Z
LAST-MODIFIED:20260205T165953Z
UID:38670-1772276400-1772298000@www.atlantaalumnaedst.org
SUMMARY:Pathway 2 Promise Scholarship Fair
DESCRIPTION:Visit the Atlanta Alumnae Chapter website for more information and to register:\nhttps://www.atlantaalumnaedst.org/pathways2promise
URL:https://www.atlantaalumnaedst.org/event/pathway-2-promise-scholarship-fair
LOCATION:Benjamin E. Mays High School\, 3450 Benjamin E. Mays Dr\, Atlanta\, GA\, 30331\, United States
CATEGORIES:In-person,Public Event
ATTACH;FMTTYPE=image/jpeg:https://www.atlantaalumnaedst.org/wp-content/uploads/2026/01/Copy-of-P2P-Scholarship-Fair-Save-The-Date-1.jpg
END:VEVENT
BEGIN:VEVENT
DTSTART;VALUE=DATE:20260222
DTEND;VALUE=DATE:20260224
DTSTAMP:20260423T112142
CREATED:20260122T182750Z
LAST-MODIFIED:20260205T170006Z
UID:38749-1771718400-1771891199@www.atlantaalumnaedst.org
SUMMARY:2026 GEORGIA Delta Days at the Capital
DESCRIPTION:
URL:https://www.atlantaalumnaedst.org/event/2026-georgia-delta-days-at-the-capital
CATEGORIES:Chapter Event,In-person
ATTACH;FMTTYPE=image/png:https://www.atlantaalumnaedst.org/wp-content/uploads/2026/01/deltadaysatcapital.png
END:VEVENT
BEGIN:VEVENT
DTSTART;TZID=America/New_York:20260221T100000
DTEND;TZID=America/New_York:20260221T120000
DTSTAMP:20260423T112142
CREATED:20260105T203825Z
LAST-MODIFIED:20260105T213017Z
UID:38649-1771668000-1771675200@www.atlantaalumnaedst.org
SUMMARY:Chapter Meeting
DESCRIPTION:Monthly Chapter Meeting.
URL:https://www.atlantaalumnaedst.org/event/chapter-meeting-april-2023-3-2
LOCATION:Allen Temple African Methodist Episcopal Church\, 1625 Joseph E. Boone\, Atlanta\, GA\, 30314\, United States
CATEGORIES:Chapter Meeting
ATTACH;FMTTYPE=image/png:https://www.atlantaalumnaedst.org/wp-content/uploads/2022/12/AACChapterMtg_graphic.png
END:VEVENT
BEGIN:VEVENT
DTSTART;TZID=America/New_York:20260219T190000
DTEND;TZID=America/New_York:20260219T203000
DTSTAMP:20260423T112142
CREATED:20260205T155907Z
LAST-MODIFIED:20260205T165817Z
UID:38777-1771527600-1771533000@www.atlantaalumnaedst.org
SUMMARY:Virtual "Go Red" Heart Health Forum
DESCRIPTION:
URL:https://www.atlantaalumnaedst.org/event/collegiate-mental-health-program-2
CATEGORIES:Public Event,Webinar/Zoom
ATTACH;FMTTYPE=image/png:https://www.atlantaalumnaedst.org/wp-content/uploads/2026/02/hearthealth.png
END:VEVENT
BEGIN:VEVENT
DTSTART;TZID=America/New_York:20260121T190000
DTEND;TZID=America/New_York:20260121T210000
DTSTAMP:20260423T112142
CREATED:20260105T210310Z
LAST-MODIFIED:20260105T210310Z
UID:38661-1769022000-1769029200@www.atlantaalumnaedst.org
SUMMARY:Risk Management Training
DESCRIPTION:Check Delta Gram for Zoom Link
URL:https://www.atlantaalumnaedst.org/event/risk-management-training
LOCATION:Online – Zoom
END:VEVENT
BEGIN:VEVENT
DTSTART;TZID=America/New_York:20260119T110000
DTEND;TZID=America/New_York:20260119T150000
DTSTAMP:20260423T112142
CREATED:20260105T210014Z
LAST-MODIFIED:20260205T170023Z
UID:38657-1768820400-1768834800@www.atlantaalumnaedst.org
SUMMARY:MLK Impact Day of Service
DESCRIPTION:National AIDS Memorial Panel Creation
URL:https://www.atlantaalumnaedst.org/event/mlk-impact-day-of-service
LOCATION:Dunbar Elementary School\, 500 Whitehall Terrace SW\, Atlanta\, GA\, United States
CATEGORIES:In-person,Public Event
ATTACH;FMTTYPE=image/png:https://www.atlantaalumnaedst.org/wp-content/uploads/2026/01/mlkdayofservice_iai.png
END:VEVENT
BEGIN:VEVENT
DTSTART;TZID=America/New_York:20260118T160000
DTEND;TZID=America/New_York:20260118T173000
DTSTAMP:20260423T112142
CREATED:20260111T174714Z
LAST-MODIFIED:20260111T174749Z
UID:38703-1768752000-1768757400@www.atlantaalumnaedst.org
SUMMARY:Arts & Letters: Delta Reads Book Club
DESCRIPTION:
URL:https://www.atlantaalumnaedst.org/event/arts-letters-delta-reads-book-club-2-2-3-2-2-2
ATTACH;FMTTYPE=image/png:https://www.atlantaalumnaedst.org/wp-content/uploads/2026/01/AAC-Delta-Reads.png
END:VEVENT
BEGIN:VEVENT
DTSTART;VALUE=DATE:20260116
DTEND;VALUE=DATE:20260119
DTSTAMP:20260423T112142
CREATED:20260105T204921Z
LAST-MODIFIED:20260105T205507Z
UID:38653-1768521600-1768780799@www.atlantaalumnaedst.org
SUMMARY:Georgia State Cluster
DESCRIPTION:
URL:https://www.atlantaalumnaedst.org/event/georgia-state-cluster
LOCATION:Savannah Convention Center\, 1 Convention Center\, Savannah\, GA\, 31421\, United States
CATEGORIES:Retreat
ATTACH;FMTTYPE=image/png:https://www.atlantaalumnaedst.org/wp-content/uploads/2026/01/statecluster.png
END:VEVENT
BEGIN:VEVENT
DTSTART;TZID=America/New_York:20260111T190000
DTEND;TZID=America/New_York:20260111T203000
DTSTAMP:20260423T112142
CREATED:20260111T180721Z
LAST-MODIFIED:20260111T180845Z
UID:38709-1768158000-1768163400@www.atlantaalumnaedst.org
SUMMARY:Founders Day Observance
DESCRIPTION:
URL:https://www.atlantaalumnaedst.org/event/founders-day-observance
ATTACH;FMTTYPE=image/png:https://www.atlantaalumnaedst.org/wp-content/uploads/2026/01/foundersobservance.png
END:VEVENT
BEGIN:VEVENT
DTSTART;TZID=America/New_York:20260110T100000
DTEND;TZID=America/New_York:20260110T120000
DTSTAMP:20260423T112142
CREATED:20260105T203717Z
LAST-MODIFIED:20260105T212936Z
UID:38646-1768039200-1768046400@www.atlantaalumnaedst.org
SUMMARY:Chapter Meeting
DESCRIPTION:Monthly Chapter Meeting.
URL:https://www.atlantaalumnaedst.org/event/chapter-meeting-april-2023-3
LOCATION:Allen Temple African Methodist Episcopal Church\, 1625 Joseph E. Boone\, Atlanta\, GA\, 30314\, United States
CATEGORIES:Chapter Meeting
ATTACH;FMTTYPE=image/png:https://www.atlantaalumnaedst.org/wp-content/uploads/2022/12/AACChapterMtg_graphic.png
END:VEVENT
BEGIN:VEVENT
DTSTART;VALUE=DATE:20260103
DTEND;VALUE=DATE:20260207
DTSTAMP:20260423T112142
CREATED:20260105T211149Z
LAST-MODIFIED:20260122T183038Z
UID:38668-1767398400-1770422399@www.atlantaalumnaedst.org
SUMMARY:AAC Scholarship Application Available
DESCRIPTION:See Atlanta Alumnae Chapter website for more information and requirements.  \nAAC Scholarship
URL:https://www.atlantaalumnaedst.org/event/aac-scholarship-application-available
CATEGORIES:Programming
ATTACH;FMTTYPE=image/jpeg:https://www.atlantaalumnaedst.org/wp-content/uploads/2026/01/2025-2026-Scholarship-Application-Flyer.jpg
END:VEVENT
BEGIN:VEVENT
DTSTART;TZID=America/New_York:20251019T160000
DTEND;TZID=America/New_York:20251019T173000
DTSTAMP:20260423T112142
CREATED:20251006T225755Z
LAST-MODIFIED:20251006T225755Z
UID:38455-1760889600-1760895000@www.atlantaalumnaedst.org
SUMMARY:Arts & Letters: Delta Reads Book Club
DESCRIPTION:
URL:https://www.atlantaalumnaedst.org/event/arts-letters-delta-reads-book-club-2-2-3-2-2
ATTACH;FMTTYPE=image/png:https://www.atlantaalumnaedst.org/wp-content/uploads/2025/10/DeltaReadsOct192025.png
END:VEVENT
BEGIN:VEVENT
DTSTART;TZID=America/New_York:20250622T160000
DTEND;TZID=America/New_York:20250622T173000
DTSTAMP:20260423T112142
CREATED:20250528T215008Z
LAST-MODIFIED:20250528T215008Z
UID:38353-1750608000-1750613400@www.atlantaalumnaedst.org
SUMMARY:Arts & Letters: Delta Reads Book Club
DESCRIPTION:
URL:https://www.atlantaalumnaedst.org/event/arts-letters-delta-reads-book-club-2-2-3-2
ATTACH;FMTTYPE=image/png:https://www.atlantaalumnaedst.org/wp-content/uploads/2025/05/Delta-Reads-Yellow-Wife.png
END:VEVENT
BEGIN:VEVENT
DTSTART;TZID=America/New_York:20250316T160000
DTEND;TZID=America/New_York:20250316T173000
DTSTAMP:20260423T112142
CREATED:20250217T042107Z
LAST-MODIFIED:20250217T042107Z
UID:38334-1742140800-1742146200@www.atlantaalumnaedst.org
SUMMARY:Arts & Letters: Delta Reads Book Club
DESCRIPTION:
URL:https://www.atlantaalumnaedst.org/event/arts-letters-delta-reads-book-club-2-2-3
ATTACH;FMTTYPE=image/png:https://www.atlantaalumnaedst.org/wp-content/uploads/2025/02/MarchBookClub.png
END:VEVENT
BEGIN:VEVENT
DTSTART;TZID=America/New_York:20250222T110000
DTEND;TZID=America/New_York:20250222T133000
DTSTAMP:20260423T112142
CREATED:20250214T010956Z
LAST-MODIFIED:20250217T031110Z
UID:38323-1740222000-1740231000@www.atlantaalumnaedst.org
SUMMARY:Arts & Letters: Banned Books
DESCRIPTION:
URL:https://www.atlantaalumnaedst.org/event/arts-letters-delta-reads-book-club-2-2-2
ATTACH;FMTTYPE=image/jpeg:https://www.atlantaalumnaedst.org/wp-content/uploads/2025/02/image000001.jpeg
END:VEVENT
BEGIN:VEVENT
DTSTART;TZID=America/New_York:20250119T160000
DTEND;TZID=America/New_York:20250119T173000
DTSTAMP:20260423T112142
CREATED:20250112T183253Z
LAST-MODIFIED:20250112T183253Z
UID:38309-1737302400-1737307800@www.atlantaalumnaedst.org
SUMMARY:Arts & Letters: Delta Reads Book Club
DESCRIPTION:
URL:https://www.atlantaalumnaedst.org/event/arts-letters-delta-reads-book-club-2-2
ATTACH;FMTTYPE=image/png:https://www.atlantaalumnaedst.org/wp-content/uploads/2025/01/January19th-3.png
END:VEVENT
BEGIN:VEVENT
DTSTART;TZID=America/New_York:20241110T160000
DTEND;TZID=America/New_York:20241110T173000
DTSTAMP:20260423T112142
CREATED:20240514T152401Z
LAST-MODIFIED:20241017T152130Z
UID:38161-1731254400-1731259800@www.atlantaalumnaedst.org
SUMMARY:Arts & Letters: Delta Reads Book Club
DESCRIPTION:
URL:https://www.atlantaalumnaedst.org/event/arts-letters-delta-reads-book-club-2
ATTACH;FMTTYPE=image/png:https://www.atlantaalumnaedst.org/wp-content/uploads/2024/10/DeltaReads_Nov10.png
END:VEVENT
BEGIN:VEVENT
DTSTART;VALUE=DATE:20240718
DTEND;VALUE=DATE:20240811
DTSTAMP:20260423T112142
CREATED:20240720T000743Z
LAST-MODIFIED:20240720T001053Z
UID:38175-1721260800-1723334399@www.atlantaalumnaedst.org
SUMMARY:Educational Development: Delta Academy Partnership with Physical & Mental Health Committee
DESCRIPTION:
URL:https://www.atlantaalumnaedst.org/event/educational-development-delta-academy-partnership-with-physical-mental-health-committee-2
ATTACH;FMTTYPE=image/png:https://www.atlantaalumnaedst.org/wp-content/uploads/2024/07/Youth-Initiative-Post-1-1.png
END:VEVENT
BEGIN:VEVENT
DTSTART;TZID=America/New_York:20240608T000000
DTEND;TZID=America/New_York:20240608T000000
DTSTAMP:20260423T112142
CREATED:20240225T225544Z
LAST-MODIFIED:20240225T225544Z
UID:38139-1717804800-1717804800@www.atlantaalumnaedst.org
SUMMARY:Membership Services: Spring Bling Fling/Summer Flips & Sips Social
DESCRIPTION:
URL:https://www.atlantaalumnaedst.org/event/membership-services-spring-bling-fling-summer-flips-sips-social
END:VEVENT
BEGIN:VEVENT
DTSTART;TZID=America/New_York:20240504T000000
DTEND;TZID=America/New_York:20240504T000000
DTSTAMP:20260423T112142
CREATED:20240225T225542Z
LAST-MODIFIED:20240225T225542Z
UID:38136-1714780800-1714780800@www.atlantaalumnaedst.org
SUMMARY:May Week: Senior Girls Reception
DESCRIPTION:
URL:https://www.atlantaalumnaedst.org/event/may-week-senior-girls-reception
END:VEVENT
BEGIN:VEVENT
DTSTART;TZID=America/New_York:20240504T000000
DTEND;TZID=America/New_York:20240504T000000
DTSTAMP:20260423T112142
CREATED:20240225T225541Z
LAST-MODIFIED:20240225T225541Z
UID:38135-1714780800-1714780800@www.atlantaalumnaedst.org
SUMMARY:Arts & Letters: Impact Program: Spring Tea-Sommerset Senior Living Facility
DESCRIPTION:
URL:https://www.atlantaalumnaedst.org/event/arts-letters-impact-program-spring-tea-sommerset-senior-living-facility
END:VEVENT
BEGIN:VEVENT
DTSTART;TZID=America/New_York:20240427T000000
DTEND;TZID=America/New_York:20240427T000000
DTSTAMP:20260423T112142
CREATED:20240225T225529Z
LAST-MODIFIED:20240225T225529Z
UID:38134-1714176000-1714176000@www.atlantaalumnaedst.org
SUMMARY:Grow With Google: Grow with Google Training for Dears and Seniors
DESCRIPTION:
URL:https://www.atlantaalumnaedst.org/event/grow-with-google-grow-with-google-training-for-dears-and-seniors
END:VEVENT
BEGIN:VEVENT
DTSTART;TZID=America/New_York:20240427T000000
DTEND;TZID=America/New_York:20240427T000000
DTSTAMP:20260423T112142
CREATED:20240225T225528Z
LAST-MODIFIED:20240225T225528Z
UID:38132-1714176000-1714176000@www.atlantaalumnaedst.org
SUMMARY:Arts & Letters: Quilt/Pillow Making
DESCRIPTION:
URL:https://www.atlantaalumnaedst.org/event/arts-letters-quilt-pillow-making
END:VEVENT
END:VCALENDAR