BEGIN:VCALENDAR
VERSION:2.0
PRODID:-//Atlanta Alumnae Chapter, Delta Sigma Theta Sorority, Inc. - ECPv6.15.20//NONSGML v1.0//EN
CALSCALE:GREGORIAN
METHOD:PUBLISH
X-ORIGINAL-URL:https://www.atlantaalumnaedst.org
X-WR-CALDESC:Events for Atlanta Alumnae Chapter, Delta Sigma Theta Sorority, Inc.
REFRESH-INTERVAL;VALUE=DURATION:PT1H
X-Robots-Tag:noindex
X-PUBLISHED-TTL:PT1H
BEGIN:VTIMEZONE
TZID:America/New_York
BEGIN:DAYLIGHT
TZOFFSETFROM:-0500
TZOFFSETTO:-0400
TZNAME:EDT
DTSTART:20210314T070000
END:DAYLIGHT
BEGIN:STANDARD
TZOFFSETFROM:-0400
TZOFFSETTO:-0500
TZNAME:EST
DTSTART:20211107T060000
END:STANDARD
BEGIN:DAYLIGHT
TZOFFSETFROM:-0500
TZOFFSETTO:-0400
TZNAME:EDT
DTSTART:20220313T070000
END:DAYLIGHT
BEGIN:STANDARD
TZOFFSETFROM:-0400
TZOFFSETTO:-0500
TZNAME:EST
DTSTART:20221106T060000
END:STANDARD
BEGIN:DAYLIGHT
TZOFFSETFROM:-0500
TZOFFSETTO:-0400
TZNAME:EDT
DTSTART:20230312T070000
END:DAYLIGHT
BEGIN:STANDARD
TZOFFSETFROM:-0400
TZOFFSETTO:-0500
TZNAME:EST
DTSTART:20231105T060000
END:STANDARD
END:VTIMEZONE
BEGIN:VEVENT
DTSTART;TZID=America/New_York:20221025T190000
DTEND;TZID=America/New_York:20221025T200000
DTSTAMP:20260423T191756
CREATED:20221215T233752Z
LAST-MODIFIED:20221216T000429Z
UID:37109-1666724400-1666728000@www.atlantaalumnaedst.org
SUMMARY:Focus: Money Matters Series
DESCRIPTION:
URL:https://www.atlantaalumnaedst.org/event/focusmoney-matters-series
CATEGORIES:Webinar/Zoom
ATTACH;FMTTYPE=image/jpeg:https://www.atlantaalumnaedst.org/wp-content/uploads/2022/10/7CBFEEBA-0D4E-4A68-AA44-9B73BC86E339.jpeg
END:VEVENT
BEGIN:VEVENT
DTSTART;TZID=America/New_York:20221019T190000
DTEND;TZID=America/New_York:20221019T200000
DTSTAMP:20260423T191756
CREATED:20221215T233756Z
LAST-MODIFIED:20221216T000507Z
UID:37110-1666206000-1666209600@www.atlantaalumnaedst.org
SUMMARY:Emergency Response Team
DESCRIPTION:
URL:https://www.atlantaalumnaedst.org/event/emergency-response-team
CATEGORIES:Webinar/Zoom
ATTACH;FMTTYPE=image/png:https://www.atlantaalumnaedst.org/wp-content/uploads/2022/10/Blue-Simple-Healthy-Care-Flyer-1.png
END:VEVENT
BEGIN:VEVENT
DTSTART;TZID=America/New_York:20220608T190000
DTEND;TZID=America/New_York:20220608T193000
DTSTAMP:20260423T191756
CREATED:20221215T233758Z
LAST-MODIFIED:20221216T000914Z
UID:37111-1654714800-1654716600@www.atlantaalumnaedst.org
SUMMARY:Social Action Civic Engagement
DESCRIPTION:
URL:https://www.atlantaalumnaedst.org/event/social-action-civic-engagement-3
CATEGORIES:Webinar/Zoom
ATTACH;FMTTYPE=image/png:https://www.atlantaalumnaedst.org/wp-content/uploads/2022/05/AAC-Social-Action-Voting-Matters-Logo-Update.png
END:VEVENT
BEGIN:VEVENT
DTSTART;TZID=America/New_York:20220329T190000
DTEND;TZID=America/New_York:20220329T200000
DTSTAMP:20260423T191756
CREATED:20221215T233824Z
LAST-MODIFIED:20221215T233824Z
UID:37117-1648580400-1648584000@www.atlantaalumnaedst.org
SUMMARY:Focus: Money Matters Series
DESCRIPTION:
URL:https://www.atlantaalumnaedst.org/event/focus-money-matters-series
CATEGORIES:Webinar/Zoom
END:VEVENT
END:VCALENDAR