BEGIN:VCALENDAR
VERSION:2.0
PRODID:-//Atlanta Alumnae Chapter, Delta Sigma Theta Sorority, Inc. - ECPv6.15.20//NONSGML v1.0//EN
CALSCALE:GREGORIAN
METHOD:PUBLISH
X-WR-CALNAME:Atlanta Alumnae Chapter, Delta Sigma Theta Sorority, Inc.
X-ORIGINAL-URL:https://www.atlantaalumnaedst.org
X-WR-CALDESC:Events for Atlanta Alumnae Chapter, Delta Sigma Theta Sorority, Inc.
REFRESH-INTERVAL;VALUE=DURATION:PT1H
X-Robots-Tag:noindex
X-PUBLISHED-TTL:PT1H
BEGIN:VTIMEZONE
TZID:America/New_York
BEGIN:DAYLIGHT
TZOFFSETFROM:-0500
TZOFFSETTO:-0400
TZNAME:EDT
DTSTART:20210314T070000
END:DAYLIGHT
BEGIN:STANDARD
TZOFFSETFROM:-0400
TZOFFSETTO:-0500
TZNAME:EST
DTSTART:20211107T060000
END:STANDARD
BEGIN:DAYLIGHT
TZOFFSETFROM:-0500
TZOFFSETTO:-0400
TZNAME:EDT
DTSTART:20220313T070000
END:DAYLIGHT
BEGIN:STANDARD
TZOFFSETFROM:-0400
TZOFFSETTO:-0500
TZNAME:EST
DTSTART:20221106T060000
END:STANDARD
BEGIN:DAYLIGHT
TZOFFSETFROM:-0500
TZOFFSETTO:-0400
TZNAME:EDT
DTSTART:20230312T070000
END:DAYLIGHT
BEGIN:STANDARD
TZOFFSETFROM:-0400
TZOFFSETTO:-0500
TZNAME:EST
DTSTART:20231105T060000
END:STANDARD
BEGIN:DAYLIGHT
TZOFFSETFROM:-0500
TZOFFSETTO:-0400
TZNAME:EDT
DTSTART:20240310T070000
END:DAYLIGHT
BEGIN:STANDARD
TZOFFSETFROM:-0400
TZOFFSETTO:-0500
TZNAME:EST
DTSTART:20241103T060000
END:STANDARD
END:VTIMEZONE
BEGIN:VEVENT
DTSTART;TZID=America/New_York:20230223T190000
DTEND;TZID=America/New_York:20230223T200000
DTSTAMP:20260423T173919
CREATED:20230213T072322Z
LAST-MODIFIED:20230216T234756Z
UID:37557-1677178800-1677182400@www.atlantaalumnaedst.org
SUMMARY:Black Women Make History: Fashion's Vanguard
DESCRIPTION:
URL:https://www.atlantaalumnaedst.org/event/blackwomenmakehistory
CATEGORIES:Webinar/Zoom
ATTACH;FMTTYPE=image/png:https://www.atlantaalumnaedst.org/wp-content/uploads/2023/02/heritagearchiveFeb23.png
END:VEVENT
BEGIN:VEVENT
DTSTART;TZID=America/New_York:20230216T193000
DTEND;TZID=America/New_York:20230216T200000
DTSTAMP:20260423T173919
CREATED:20230204T033952Z
LAST-MODIFIED:20230204T033952Z
UID:37373-1676575800-1676577600@www.atlantaalumnaedst.org
SUMMARY:The Heart of the Matter
DESCRIPTION:
URL:https://www.atlantaalumnaedst.org/event/diabetes-forum-series-4-2
CATEGORIES:Webinar/Zoom
ATTACH;FMTTYPE=image/png:https://www.atlantaalumnaedst.org/wp-content/uploads/2023/02/PMH-HeartofMatterwLink.png
END:VEVENT
BEGIN:VEVENT
DTSTART;TZID=America/New_York:20230209T193000
DTEND;TZID=America/New_York:20230209T200000
DTSTAMP:20260423T173919
CREATED:20230204T013329Z
LAST-MODIFIED:20230204T033801Z
UID:37318-1675971000-1675972800@www.atlantaalumnaedst.org
SUMMARY:The Heart of the Matter
DESCRIPTION:
URL:https://www.atlantaalumnaedst.org/event/diabetes-forum-series-4
CATEGORIES:Webinar/Zoom
ATTACH;FMTTYPE=image/png:https://www.atlantaalumnaedst.org/wp-content/uploads/2023/02/PMH-HeartofMatterwLink.png
END:VEVENT
BEGIN:VEVENT
DTSTART;TZID=America/New_York:20230124T190000
DTEND;TZID=America/New_York:20230124T200000
DTSTAMP:20260423T173919
CREATED:20221229T212302Z
LAST-MODIFIED:20221229T212302Z
UID:37199-1674586800-1674590400@www.atlantaalumnaedst.org
SUMMARY:Focus: Money Matters Series
DESCRIPTION:
URL:https://www.atlantaalumnaedst.org/event/focusmoney-matters-series-2
CATEGORIES:Webinar/Zoom
ATTACH;FMTTYPE=image/png:https://www.atlantaalumnaedst.org/wp-content/uploads/2022/12/moneymatters.png
END:VEVENT
BEGIN:VEVENT
DTSTART;TZID=America/New_York:20230122T160000
DTEND;TZID=America/New_York:20230122T180000
DTSTAMP:20260423T173919
CREATED:20221229T211041Z
LAST-MODIFIED:20230304T003129Z
UID:37194-1674403200-1674410400@www.atlantaalumnaedst.org
SUMMARY:Delta Reads Book Club
DESCRIPTION:Zoom Meeting Link: bit.ly/3i1AP2a\nMeeting ID: 862 6103 4318\nPasscode: 483869
URL:https://www.atlantaalumnaedst.org/event/delta-reads-book-club-2
CATEGORIES:Webinar/Zoom
ATTACH;FMTTYPE=image/jpeg:https://www.atlantaalumnaedst.org/wp-content/uploads/2022/12/image_6483441-1.jpg
END:VEVENT
BEGIN:VEVENT
DTSTART;TZID=America/New_York:20221120T160000
DTEND;TZID=America/New_York:20221120T180000
DTSTAMP:20260423T173919
CREATED:20221215T233737Z
LAST-MODIFIED:20221215T235920Z
UID:37104-1668960000-1668967200@www.atlantaalumnaedst.org
SUMMARY:Delta Reads Book Club
DESCRIPTION:
URL:https://www.atlantaalumnaedst.org/event/delta-reads-book-club
CATEGORIES:Webinar/Zoom
ATTACH;FMTTYPE=image/jpeg:https://www.atlantaalumnaedst.org/wp-content/uploads/2022/11/image_6483441-2.jpg
END:VEVENT
BEGIN:VEVENT
DTSTART;TZID=America/New_York:20221117T190000
DTEND;TZID=America/New_York:20221117T200000
DTSTAMP:20260423T173919
CREATED:20221215T233740Z
LAST-MODIFIED:20221216T000118Z
UID:37105-1668711600-1668715200@www.atlantaalumnaedst.org
SUMMARY:Diabetes Forum Series
DESCRIPTION:
URL:https://www.atlantaalumnaedst.org/event/diabetes-forum-series
CATEGORIES:Webinar/Zoom
ATTACH;FMTTYPE=image/jpeg:https://www.atlantaalumnaedst.org/wp-content/uploads/2022/11/image_6483441-1.jpg
END:VEVENT
BEGIN:VEVENT
DTSTART;TZID=America/New_York:20221110T190000
DTEND;TZID=America/New_York:20221110T200000
DTSTAMP:20260423T173919
CREATED:20221215T233743Z
LAST-MODIFIED:20221216T000147Z
UID:37106-1668106800-1668110400@www.atlantaalumnaedst.org
SUMMARY:Diabetes Forum Series
DESCRIPTION:
URL:https://www.atlantaalumnaedst.org/event/diabetes-forum-series-2
CATEGORIES:Webinar/Zoom
ATTACH;FMTTYPE=image/jpeg:https://www.atlantaalumnaedst.org/wp-content/uploads/2022/11/image_6483441-1.jpg
END:VEVENT
BEGIN:VEVENT
DTSTART;TZID=America/New_York:20221103T190000
DTEND;TZID=America/New_York:20221103T200000
DTSTAMP:20260423T173919
CREATED:20221215T233747Z
LAST-MODIFIED:20221216T000222Z
UID:37107-1667502000-1667505600@www.atlantaalumnaedst.org
SUMMARY:Diabetes Forum Series
DESCRIPTION:
URL:https://www.atlantaalumnaedst.org/event/diabetes-forum-series-3
CATEGORIES:Webinar/Zoom
ATTACH;FMTTYPE=image/jpeg:https://www.atlantaalumnaedst.org/wp-content/uploads/2022/11/image_6483441-1.jpg
END:VEVENT
BEGIN:VEVENT
DTSTART;TZID=America/New_York:20221027T190000
DTEND;TZID=America/New_York:20221027T203000
DTSTAMP:20260423T173919
CREATED:20221215T233750Z
LAST-MODIFIED:20221216T000335Z
UID:37108-1666897200-1666902600@www.atlantaalumnaedst.org
SUMMARY:Social Action Civic Engagement
DESCRIPTION:
URL:https://www.atlantaalumnaedst.org/event/social-action-civic-engagement-2
CATEGORIES:Webinar/Zoom
ATTACH;FMTTYPE=image/png:https://www.atlantaalumnaedst.org/wp-content/uploads/2022/10/Social-Action-Civic-Engagment-.png
END:VEVENT
BEGIN:VEVENT
DTSTART;TZID=America/New_York:20221025T190000
DTEND;TZID=America/New_York:20221025T200000
DTSTAMP:20260423T173919
CREATED:20221215T233752Z
LAST-MODIFIED:20221216T000429Z
UID:37109-1666724400-1666728000@www.atlantaalumnaedst.org
SUMMARY:Focus: Money Matters Series
DESCRIPTION:
URL:https://www.atlantaalumnaedst.org/event/focusmoney-matters-series
CATEGORIES:Webinar/Zoom
ATTACH;FMTTYPE=image/jpeg:https://www.atlantaalumnaedst.org/wp-content/uploads/2022/10/7CBFEEBA-0D4E-4A68-AA44-9B73BC86E339.jpeg
END:VEVENT
BEGIN:VEVENT
DTSTART;TZID=America/New_York:20221019T190000
DTEND;TZID=America/New_York:20221019T200000
DTSTAMP:20260423T173919
CREATED:20221215T233756Z
LAST-MODIFIED:20221216T000507Z
UID:37110-1666206000-1666209600@www.atlantaalumnaedst.org
SUMMARY:Emergency Response Team
DESCRIPTION:
URL:https://www.atlantaalumnaedst.org/event/emergency-response-team
CATEGORIES:Webinar/Zoom
ATTACH;FMTTYPE=image/png:https://www.atlantaalumnaedst.org/wp-content/uploads/2022/10/Blue-Simple-Healthy-Care-Flyer-1.png
END:VEVENT
BEGIN:VEVENT
DTSTART;TZID=America/New_York:20220608T190000
DTEND;TZID=America/New_York:20220608T193000
DTSTAMP:20260423T173919
CREATED:20221215T233758Z
LAST-MODIFIED:20221216T000914Z
UID:37111-1654714800-1654716600@www.atlantaalumnaedst.org
SUMMARY:Social Action Civic Engagement
DESCRIPTION:
URL:https://www.atlantaalumnaedst.org/event/social-action-civic-engagement-3
CATEGORIES:Webinar/Zoom
ATTACH;FMTTYPE=image/png:https://www.atlantaalumnaedst.org/wp-content/uploads/2022/05/AAC-Social-Action-Voting-Matters-Logo-Update.png
END:VEVENT
BEGIN:VEVENT
DTSTART;TZID=America/New_York:20220329T190000
DTEND;TZID=America/New_York:20220329T200000
DTSTAMP:20260423T173919
CREATED:20221215T233824Z
LAST-MODIFIED:20221215T233824Z
UID:37117-1648580400-1648584000@www.atlantaalumnaedst.org
SUMMARY:Focus: Money Matters Series
DESCRIPTION:
URL:https://www.atlantaalumnaedst.org/event/focus-money-matters-series
CATEGORIES:Webinar/Zoom
END:VEVENT
END:VCALENDAR