BEGIN:VCALENDAR
VERSION:2.0
PRODID:-//Atlanta Alumnae Chapter, Delta Sigma Theta Sorority, Inc. - ECPv6.15.20//NONSGML v1.0//EN
CALSCALE:GREGORIAN
METHOD:PUBLISH
X-ORIGINAL-URL:https://www.atlantaalumnaedst.org
X-WR-CALDESC:Events for Atlanta Alumnae Chapter, Delta Sigma Theta Sorority, Inc.
REFRESH-INTERVAL;VALUE=DURATION:PT1H
X-Robots-Tag:noindex
X-PUBLISHED-TTL:PT1H
BEGIN:VTIMEZONE
TZID:America/New_York
BEGIN:DAYLIGHT
TZOFFSETFROM:-0500
TZOFFSETTO:-0400
TZNAME:EDT
DTSTART:20220313T070000
END:DAYLIGHT
BEGIN:STANDARD
TZOFFSETFROM:-0400
TZOFFSETTO:-0500
TZNAME:EST
DTSTART:20221106T060000
END:STANDARD
BEGIN:DAYLIGHT
TZOFFSETFROM:-0500
TZOFFSETTO:-0400
TZNAME:EDT
DTSTART:20230312T070000
END:DAYLIGHT
BEGIN:STANDARD
TZOFFSETFROM:-0400
TZOFFSETTO:-0500
TZNAME:EST
DTSTART:20231105T060000
END:STANDARD
BEGIN:DAYLIGHT
TZOFFSETFROM:-0500
TZOFFSETTO:-0400
TZNAME:EDT
DTSTART:20240310T070000
END:DAYLIGHT
BEGIN:STANDARD
TZOFFSETFROM:-0400
TZOFFSETTO:-0500
TZNAME:EST
DTSTART:20241103T060000
END:STANDARD
END:VTIMEZONE
BEGIN:VEVENT
DTSTART;TZID=America/New_York:20230326T180000
DTEND;TZID=America/New_York:20230326T210000
DTSTAMP:20260423T160215
CREATED:20230305T224830Z
LAST-MODIFIED:20230305T233110Z
UID:37626-1679853600-1679864400@www.atlantaalumnaedst.org
SUMMARY:Atlanta Hawks Step Team Performance
DESCRIPTION:Our Step Team will be performing pre-game and Atlanta Alumnae will receive a portion of all proceeds if we purchase at least 100 tickets.  Please support our Step Team and purchase your ticket today!
URL:https://www.atlantaalumnaedst.org/event/step-team-march-2023
CATEGORIES:In-person,Public Event
ATTACH;FMTTYPE=image/png:https://www.atlantaalumnaedst.org/wp-content/uploads/2023/03/step_team.png
END:VEVENT
BEGIN:VEVENT
DTSTART;TZID=America/New_York:20230314T180000
DTEND;TZID=America/New_York:20230314T200000
DTSTAMP:20260423T160215
CREATED:20230305T223655Z
LAST-MODIFIED:20230305T223655Z
UID:37623-1678816800-1678824000@www.atlantaalumnaedst.org
SUMMARY:Delta Dear Peppermint Tea
DESCRIPTION:In Sisterhood month we are excited to honor our Delta Dears.
URL:https://www.atlantaalumnaedst.org/event/delta-reads-book-club-vanishinghalf-2
CATEGORIES:Chapter Event,In-person
ATTACH;FMTTYPE=image/png:https://www.atlantaalumnaedst.org/wp-content/uploads/2023/03/peppermint-tea.png
END:VEVENT
END:VCALENDAR