BEGIN:VCALENDAR
VERSION:2.0
PRODID:-//Atlanta Alumnae Chapter, Delta Sigma Theta Sorority, Inc. - ECPv6.15.20//NONSGML v1.0//EN
CALSCALE:GREGORIAN
METHOD:PUBLISH
X-ORIGINAL-URL:https://www.atlantaalumnaedst.org
X-WR-CALDESC:Events for Atlanta Alumnae Chapter, Delta Sigma Theta Sorority, Inc.
REFRESH-INTERVAL;VALUE=DURATION:PT1H
X-Robots-Tag:noindex
X-PUBLISHED-TTL:PT1H
BEGIN:VTIMEZONE
TZID:America/New_York
BEGIN:DAYLIGHT
TZOFFSETFROM:-0500
TZOFFSETTO:-0400
TZNAME:EDT
DTSTART:20250309T070000
END:DAYLIGHT
BEGIN:STANDARD
TZOFFSETFROM:-0400
TZOFFSETTO:-0500
TZNAME:EST
DTSTART:20251102T060000
END:STANDARD
BEGIN:DAYLIGHT
TZOFFSETFROM:-0500
TZOFFSETTO:-0400
TZNAME:EDT
DTSTART:20260308T070000
END:DAYLIGHT
BEGIN:STANDARD
TZOFFSETFROM:-0400
TZOFFSETTO:-0500
TZNAME:EST
DTSTART:20261101T060000
END:STANDARD
BEGIN:DAYLIGHT
TZOFFSETFROM:-0500
TZOFFSETTO:-0400
TZNAME:EDT
DTSTART:20270314T070000
END:DAYLIGHT
BEGIN:STANDARD
TZOFFSETFROM:-0400
TZOFFSETTO:-0500
TZNAME:EST
DTSTART:20271107T060000
END:STANDARD
END:VTIMEZONE
BEGIN:VEVENT
DTSTART;TZID=America/New_York:20260426T140000
DTEND;TZID=America/New_York:20260426T160000
DTSTAMP:20260423T125426
CREATED:20260312T153601Z
LAST-MODIFIED:20260417T153955Z
UID:38829-1777212000-1777219200@www.atlantaalumnaedst.org
SUMMARY:Economic Development: Building Wealth to Leaving a Legacy
DESCRIPTION:
URL:https://www.atlantaalumnaedst.org/event/economic-development-red-power-series-3-2
LOCATION:Russell Innovation Center for Entrepreneurs\, 504 Fair St SW\, Atlanta\, GA\, 30313\, United States
CATEGORIES:In-person,Public Event
ATTACH;FMTTYPE=image/png:https://www.atlantaalumnaedst.org/wp-content/uploads/2026/03/buildingwealth.png
END:VEVENT
END:VCALENDAR