BEGIN:VCALENDAR
VERSION:2.0
PRODID:-//Atlanta Alumnae Chapter, Delta Sigma Theta Sorority, Inc. - ECPv6.15.20//NONSGML v1.0//EN
CALSCALE:GREGORIAN
METHOD:PUBLISH
X-ORIGINAL-URL:https://www.atlantaalumnaedst.org
X-WR-CALDESC:Events for Atlanta Alumnae Chapter, Delta Sigma Theta Sorority, Inc.
REFRESH-INTERVAL;VALUE=DURATION:PT1H
X-Robots-Tag:noindex
X-PUBLISHED-TTL:PT1H
BEGIN:VTIMEZONE
TZID:America/New_York
BEGIN:DAYLIGHT
TZOFFSETFROM:-0500
TZOFFSETTO:-0400
TZNAME:EDT
DTSTART:20210314T070000
END:DAYLIGHT
BEGIN:STANDARD
TZOFFSETFROM:-0400
TZOFFSETTO:-0500
TZNAME:EST
DTSTART:20211107T060000
END:STANDARD
BEGIN:DAYLIGHT
TZOFFSETFROM:-0500
TZOFFSETTO:-0400
TZNAME:EDT
DTSTART:20220313T070000
END:DAYLIGHT
BEGIN:STANDARD
TZOFFSETFROM:-0400
TZOFFSETTO:-0500
TZNAME:EST
DTSTART:20221106T060000
END:STANDARD
BEGIN:DAYLIGHT
TZOFFSETFROM:-0500
TZOFFSETTO:-0400
TZNAME:EDT
DTSTART:20230312T070000
END:DAYLIGHT
BEGIN:STANDARD
TZOFFSETFROM:-0400
TZOFFSETTO:-0500
TZNAME:EST
DTSTART:20231105T060000
END:STANDARD
END:VTIMEZONE
BEGIN:VEVENT
DTSTART;TZID=America/New_York:20221203T100000
DTEND;TZID=America/New_York:20221203T170000
DTSTAMP:20260423T175637
CREATED:20221215T233735Z
LAST-MODIFIED:20221215T234805Z
UID:37103-1670061600-1670086800@www.atlantaalumnaedst.org
SUMMARY:December to Remember Holiday Service Project
DESCRIPTION:
URL:https://www.atlantaalumnaedst.org/event/december-to-remember-holiday-service-project
CATEGORIES:Chapter Meeting
ATTACH;FMTTYPE=image/png:https://www.atlantaalumnaedst.org/wp-content/uploads/2022/12/AACChapterEvent_graphic.png
END:VEVENT
BEGIN:VEVENT
DTSTART;TZID=America/New_York:20221119T100000
DTEND;TZID=America/New_York:20221119T120000
DTSTAMP:20260423T175637
CREATED:20221215T233654Z
LAST-MODIFIED:20221216T000040Z
UID:37093-1668852000-1668859200@www.atlantaalumnaedst.org
SUMMARY:Chapter Meeting
DESCRIPTION:Monthly Chapter Meeting. Check your email for meeting link.
URL:https://www.atlantaalumnaedst.org/event/chapter-meeting
CATEGORIES:Chapter Meeting
ATTACH;FMTTYPE=image/png:https://www.atlantaalumnaedst.org/wp-content/uploads/2022/12/AACChapterMtg_graphic.png
END:VEVENT
BEGIN:VEVENT
DTSTART;TZID=America/New_York:20221015T100000
DTEND;TZID=America/New_York:20221015T120000
DTSTAMP:20260423T175637
CREATED:20221215T233658Z
LAST-MODIFIED:20221216T000545Z
UID:37094-1665828000-1665835200@www.atlantaalumnaedst.org
SUMMARY:Chapter Meeting
DESCRIPTION:
URL:https://www.atlantaalumnaedst.org/event/chapter-meeting-2
CATEGORIES:Chapter Meeting
ATTACH;FMTTYPE=image/png:https://www.atlantaalumnaedst.org/wp-content/uploads/2022/12/AACChapterMtg_graphic.png
END:VEVENT
BEGIN:VEVENT
DTSTART;TZID=America/New_York:20220521T100000
DTEND;TZID=America/New_York:20220521T120000
DTSTAMP:20260423T175637
CREATED:20221215T233702Z
LAST-MODIFIED:20221216T001039Z
UID:37096-1653127200-1653134400@www.atlantaalumnaedst.org
SUMMARY:Chapter Meeting
DESCRIPTION:
URL:https://www.atlantaalumnaedst.org/event/chapter-meeting-3
CATEGORIES:Chapter Meeting
ATTACH;FMTTYPE=image/png:https://www.atlantaalumnaedst.org/wp-content/uploads/2022/12/AACChapterMtg_graphic.png
END:VEVENT
BEGIN:VEVENT
DTSTART;TZID=America/New_York:20220430T100000
DTEND;TZID=America/New_York:20220430T120000
DTSTAMP:20260423T175637
CREATED:20221215T233705Z
LAST-MODIFIED:20221215T233705Z
UID:37097-1651312800-1651320000@www.atlantaalumnaedst.org
SUMMARY:Chapter Meeting
DESCRIPTION:Monthly Chapter Meeting. Check your email for meeting link.
URL:https://www.atlantaalumnaedst.org/event/chapter-meeting-4
CATEGORIES:Chapter Meeting
END:VEVENT
BEGIN:VEVENT
DTSTART;TZID=America/New_York:20220319T100000
DTEND;TZID=America/New_York:20220319T120000
DTSTAMP:20260423T175637
CREATED:20221215T233709Z
LAST-MODIFIED:20221215T233709Z
UID:37098-1647684000-1647691200@www.atlantaalumnaedst.org
SUMMARY:Chapter Meeting
DESCRIPTION:Monthly Chapter Meeting. Check your email for meeting link.
URL:https://www.atlantaalumnaedst.org/event/chapter-meeting-5
CATEGORIES:Chapter Meeting
END:VEVENT
BEGIN:VEVENT
DTSTART;TZID=America/New_York:20220219T100000
DTEND;TZID=America/New_York:20220219T120000
DTSTAMP:20260423T175637
CREATED:20221215T233711Z
LAST-MODIFIED:20221215T233711Z
UID:37099-1645264800-1645272000@www.atlantaalumnaedst.org
SUMMARY:Chapter Meeting
DESCRIPTION:Monthly Chapter Meeting. Check your email for meeting link.
URL:https://www.atlantaalumnaedst.org/event/chapter-meeting-6
CATEGORIES:Chapter Meeting
END:VEVENT
BEGIN:VEVENT
DTSTART;TZID=America/New_York:20220115T100000
DTEND;TZID=America/New_York:20220115T120000
DTSTAMP:20260423T175637
CREATED:20221215T233713Z
LAST-MODIFIED:20221215T233713Z
UID:37100-1642240800-1642248000@www.atlantaalumnaedst.org
SUMMARY:Chapter Meeting
DESCRIPTION:Monthly Chapter Meeting. Check your email for meeting link.
URL:https://www.atlantaalumnaedst.org/event/chapter-meeting-7
CATEGORIES:Chapter Meeting
END:VEVENT
END:VCALENDAR