BEGIN:VCALENDAR
VERSION:2.0
PRODID:-//Atlanta Alumnae Chapter, Delta Sigma Theta Sorority, Inc. - ECPv6.15.20//NONSGML v1.0//EN
CALSCALE:GREGORIAN
METHOD:PUBLISH
X-ORIGINAL-URL:https://www.atlantaalumnaedst.org
X-WR-CALDESC:Events for Atlanta Alumnae Chapter, Delta Sigma Theta Sorority, Inc.
REFRESH-INTERVAL;VALUE=DURATION:PT1H
X-Robots-Tag:noindex
X-PUBLISHED-TTL:PT1H
BEGIN:VTIMEZONE
TZID:America/New_York
BEGIN:DAYLIGHT
TZOFFSETFROM:-0500
TZOFFSETTO:-0400
TZNAME:EDT
DTSTART:20210314T070000
END:DAYLIGHT
BEGIN:STANDARD
TZOFFSETFROM:-0400
TZOFFSETTO:-0500
TZNAME:EST
DTSTART:20211107T060000
END:STANDARD
BEGIN:DAYLIGHT
TZOFFSETFROM:-0500
TZOFFSETTO:-0400
TZNAME:EDT
DTSTART:20220313T070000
END:DAYLIGHT
BEGIN:STANDARD
TZOFFSETFROM:-0400
TZOFFSETTO:-0500
TZNAME:EST
DTSTART:20221106T060000
END:STANDARD
BEGIN:DAYLIGHT
TZOFFSETFROM:-0500
TZOFFSETTO:-0400
TZNAME:EDT
DTSTART:20230312T070000
END:DAYLIGHT
BEGIN:STANDARD
TZOFFSETFROM:-0400
TZOFFSETTO:-0500
TZNAME:EST
DTSTART:20231105T060000
END:STANDARD
END:VTIMEZONE
BEGIN:VEVENT
DTSTART;TZID=America/New_York:20220301T160000
DTEND;TZID=America/New_York:20220301T183000
DTSTAMP:20260423T175524
CREATED:20221215T233912Z
LAST-MODIFIED:20221215T233912Z
UID:37123-1646150400-1646159400@www.atlantaalumnaedst.org
SUMMARY:National Colerectal Cancer Month Awareness Initiative
DESCRIPTION:
URL:https://www.atlantaalumnaedst.org/event/national-colerectal-cancer-month-awareness-initiative
CATEGORIES:Chapter Event
END:VEVENT
BEGIN:VEVENT
DTSTART;TZID=America/New_York:20220301T000000
DTEND;TZID=America/New_York:20220301T000000
DTSTAMP:20260423T175524
CREATED:20221215T233826Z
LAST-MODIFIED:20221215T233826Z
UID:37118-1646092800-1646092800@www.atlantaalumnaedst.org
SUMMARY:Sisterhood Month Activities
DESCRIPTION:
URL:https://www.atlantaalumnaedst.org/event/sisterhood-month-activities
CATEGORIES:Chapter Event
END:VEVENT
BEGIN:VEVENT
DTSTART;TZID=America/New_York:20220201T000000
DTEND;TZID=America/New_York:20220228T183000
DTSTAMP:20260423T175524
CREATED:20221215T233914Z
LAST-MODIFIED:20221215T233914Z
UID:37124-1643673600-1646073000@www.atlantaalumnaedst.org
SUMMARY:Stomp Out Hunger
DESCRIPTION:
URL:https://www.atlantaalumnaedst.org/event/stomp-out-hunger
CATEGORIES:Chapter Event
END:VEVENT
END:VCALENDAR